BEGIN:VCALENDAR
VERSION:2.0
PRODID:-//Iglesia CPN - ECPv6.15.20//NONSGML v1.0//EN
CALSCALE:GREGORIAN
METHOD:PUBLISH
X-WR-CALNAME:Iglesia CPN
X-ORIGINAL-URL:https://iglesiacpn.es
X-WR-CALDESC:Eventos para Iglesia CPN
REFRESH-INTERVAL;VALUE=DURATION:PT1H
X-Robots-Tag:noindex
X-PUBLISHED-TTL:PT1H
BEGIN:VTIMEZONE
TZID:Europe/Madrid
BEGIN:DAYLIGHT
TZOFFSETFROM:+0100
TZOFFSETTO:+0200
TZNAME:CEST
DTSTART:20220327T010000
END:DAYLIGHT
BEGIN:STANDARD
TZOFFSETFROM:+0200
TZOFFSETTO:+0100
TZNAME:CET
DTSTART:20221030T010000
END:STANDARD
BEGIN:DAYLIGHT
TZOFFSETFROM:+0100
TZOFFSETTO:+0200
TZNAME:CEST
DTSTART:20230326T010000
END:DAYLIGHT
BEGIN:STANDARD
TZOFFSETFROM:+0200
TZOFFSETTO:+0100
TZNAME:CET
DTSTART:20231029T010000
END:STANDARD
BEGIN:DAYLIGHT
TZOFFSETFROM:+0100
TZOFFSETTO:+0200
TZNAME:CEST
DTSTART:20240331T010000
END:DAYLIGHT
BEGIN:STANDARD
TZOFFSETFROM:+0200
TZOFFSETTO:+0100
TZNAME:CET
DTSTART:20241027T010000
END:STANDARD
END:VTIMEZONE
BEGIN:VEVENT
DTSTART;TZID=Europe/Madrid:20230701T180000
DTEND;TZID=Europe/Madrid:20230701T213000
DTSTAMP:20260424T092210
CREATED:20230608T091353Z
LAST-MODIFIED:20230701T165341Z
UID:14012-1688234400-1688247000@iglesiacpn.es
SUMMARY:TRANSFORMADOS POR SU PRESENCIA CON EL PASTOR JOE ROSA
DESCRIPTION:¡Tenemos buenas noticias!Los días 30 de Junio y 1 de Julio tendremos con nosotros una conferencia especial con el Pastor Joe Rosa desde Estados Unidos “Transformados por Su Presencia”. \n\n\n\nEl Pastor Joe\, junto a su esposa Ada\, tiene un ministerio de evangelismo\, llevando la Palabra de Dios a muchísimos países del mundo. Tenemos el privilegio de contar con él para un fin de semana tremendo. \n\n\n\nLa entrada para los días 30 de Junio y 1 de Julio (viernes y sábado) será de 12€. Puedes adquirir la entrada presencialmente en nuestro auditorio CPN o bien online a través de nuestra página web (donde se añaden tasas). \n\n\n\n¡Ven y trae un invitado! ¡Te va a encantar! \n\n\n\n¡En Cristo Jesús somos más que vencedores! \n\n\n\nCon amor\, \n\n\n\nIglesia CPN.
URL:https://iglesiacpn.es/evento/transformados-por-su-presencia-con-el-pastor-joe-rosa/
LOCATION:IGLESIA CPN\, Carrer Mestre Guerrero\, 10\, Manises\, Valencia.\, Manises\, Valencia\, 46940\, España
ORGANIZER;CN="Iglecia cpn":MAILTO:info@iglesiacpn.es
END:VEVENT
END:VCALENDAR