BEGIN:VCALENDAR
VERSION:2.0
PRODID:-//Iglesia CPN - ECPv6.15.20//NONSGML v1.0//EN
CALSCALE:GREGORIAN
METHOD:PUBLISH
X-WR-CALNAME:Iglesia CPN
X-ORIGINAL-URL:https://iglesiacpn.es
X-WR-CALDESC:Eventos para Iglesia CPN
REFRESH-INTERVAL;VALUE=DURATION:PT1H
X-Robots-Tag:noindex
X-PUBLISHED-TTL:PT1H
BEGIN:VTIMEZONE
TZID:Europe/Madrid
BEGIN:DAYLIGHT
TZOFFSETFROM:+0100
TZOFFSETTO:+0200
TZNAME:CEST
DTSTART:20220327T010000
END:DAYLIGHT
BEGIN:STANDARD
TZOFFSETFROM:+0200
TZOFFSETTO:+0100
TZNAME:CET
DTSTART:20221030T010000
END:STANDARD
BEGIN:DAYLIGHT
TZOFFSETFROM:+0100
TZOFFSETTO:+0200
TZNAME:CEST
DTSTART:20230326T010000
END:DAYLIGHT
BEGIN:STANDARD
TZOFFSETFROM:+0200
TZOFFSETTO:+0100
TZNAME:CET
DTSTART:20231029T010000
END:STANDARD
BEGIN:DAYLIGHT
TZOFFSETFROM:+0100
TZOFFSETTO:+0200
TZNAME:CEST
DTSTART:20240331T010000
END:DAYLIGHT
BEGIN:STANDARD
TZOFFSETFROM:+0200
TZOFFSETTO:+0100
TZNAME:CET
DTSTART:20241027T010000
END:STANDARD
END:VTIMEZONE
BEGIN:VEVENT
DTSTART;TZID=Europe/Madrid:20230407T190000
DTEND;TZID=Europe/Madrid:20230407T213000
DTSTAMP:20260424T125414
CREATED:20230326T132711Z
LAST-MODIFIED:20230326T133750Z
UID:13548-1680894000-1680903000@iglesiacpn.es
SUMMARY:CPNvideo Resucitado.
DESCRIPTION:¡No hagas planes para el viernes 7 de abril porque tendremos tarde de cine!Ya empezamos a celebrar la Pascua y queremos invitarte a que celebres con nosotros. \n\n\n\nEl viernes 7 de abril a las 19h\, estaremos proyectando la película Resucitado en nuestro auditorio CPN. La película narra la épica historia bíblica sobre la resurrección\, desde los ojos de un soldado romano. \n\n\n\nPodrán disfrutar de la película todos los adultos y adolescentes +12 años; para los más pequeños será proyectado El príncipe del Egipto en nuestras aulas. \n\n\n\nVen con muchas expectativas y trae un invitado\, será una tarde muy bendecida.
URL:https://iglesiacpn.es/evento/cpnvideo-resucitado/
LOCATION:Carrer Mestre Guerrero\, 10\, 46940 Manises\, ValenciaCarrer Mestre Guerrero\, 10\, 46940 Manises\, Valencia\, Carrer mestre guerrero\, 10\, manises\, valencia\, 46940\, España
ORGANIZER;CN="Iglecia cpn":MAILTO:info@iglesiacpn.es
END:VEVENT
END:VCALENDAR