BEGIN:VCALENDAR
VERSION:2.0
PRODID:-//Iglesia CPN - ECPv6.15.20//NONSGML v1.0//EN
CALSCALE:GREGORIAN
METHOD:PUBLISH
X-WR-CALNAME:Iglesia CPN
X-ORIGINAL-URL:https://iglesiacpn.es
X-WR-CALDESC:Eventos para Iglesia CPN
REFRESH-INTERVAL;VALUE=DURATION:PT1H
X-Robots-Tag:noindex
X-PUBLISHED-TTL:PT1H
BEGIN:VTIMEZONE
TZID:Europe/Madrid
BEGIN:DAYLIGHT
TZOFFSETFROM:+0100
TZOFFSETTO:+0200
TZNAME:CEST
DTSTART:20240331T010000
END:DAYLIGHT
BEGIN:STANDARD
TZOFFSETFROM:+0200
TZOFFSETTO:+0100
TZNAME:CET
DTSTART:20241027T010000
END:STANDARD
BEGIN:DAYLIGHT
TZOFFSETFROM:+0100
TZOFFSETTO:+0200
TZNAME:CEST
DTSTART:20250330T010000
END:DAYLIGHT
BEGIN:STANDARD
TZOFFSETFROM:+0200
TZOFFSETTO:+0100
TZNAME:CET
DTSTART:20251026T010000
END:STANDARD
BEGIN:DAYLIGHT
TZOFFSETFROM:+0100
TZOFFSETTO:+0200
TZNAME:CEST
DTSTART:20260329T010000
END:DAYLIGHT
BEGIN:STANDARD
TZOFFSETFROM:+0200
TZOFFSETTO:+0100
TZNAME:CET
DTSTART:20261025T010000
END:STANDARD
END:VTIMEZONE
BEGIN:VEVENT
DTSTART;TZID=Europe/Madrid:20251212T130000
DTEND;TZID=Europe/Madrid:20251214T180000
DTSTAMP:20260420T155228
CREATED:20230920T141706Z
LAST-MODIFIED:20251204T160157Z
UID:14451-1765544400-1765735200@iglesiacpn.es
SUMMARY:DÚNAMIS
DESCRIPTION:Dúnamis 2025: Ensancha el lugar de tu tienda
URL:https://iglesiacpn.es/evento/dunamis/
LOCATION:IGLESIA CPN\, Carrer Mestre Guerrero\, 10\, Manises\, Valencia.\, Manises\, Valencia\, 46940\, España
END:VEVENT
END:VCALENDAR