BEGIN:VCALENDAR
VERSION:2.0
PRODID:-//Iglesia CPN - ECPv6.15.20//NONSGML v1.0//EN
CALSCALE:GREGORIAN
METHOD:PUBLISH
X-ORIGINAL-URL:https://iglesiacpn.es
X-WR-CALDESC:Eventos para Iglesia CPN
REFRESH-INTERVAL;VALUE=DURATION:PT1H
X-Robots-Tag:noindex
X-PUBLISHED-TTL:PT1H
BEGIN:VTIMEZONE
TZID:Europe/Madrid
BEGIN:DAYLIGHT
TZOFFSETFROM:+0100
TZOFFSETTO:+0200
TZNAME:CEST
DTSTART:20230326T010000
END:DAYLIGHT
BEGIN:STANDARD
TZOFFSETFROM:+0200
TZOFFSETTO:+0100
TZNAME:CET
DTSTART:20231029T010000
END:STANDARD
BEGIN:DAYLIGHT
TZOFFSETFROM:+0100
TZOFFSETTO:+0200
TZNAME:CEST
DTSTART:20240331T010000
END:DAYLIGHT
BEGIN:STANDARD
TZOFFSETFROM:+0200
TZOFFSETTO:+0100
TZNAME:CET
DTSTART:20241027T010000
END:STANDARD
BEGIN:DAYLIGHT
TZOFFSETFROM:+0100
TZOFFSETTO:+0200
TZNAME:CEST
DTSTART:20250330T010000
END:DAYLIGHT
BEGIN:STANDARD
TZOFFSETFROM:+0200
TZOFFSETTO:+0100
TZNAME:CET
DTSTART:20251026T010000
END:STANDARD
END:VTIMEZONE
BEGIN:VEVENT
DTSTART;TZID=Europe/Madrid:20241026T180000
DTEND;TZID=Europe/Madrid:20241026T213000
DTSTAMP:20260423T130824
CREATED:20241012T204838Z
LAST-MODIFIED:20241012T212420Z
UID:15456-1729965600-1729978200@iglesiacpn.es
SUMMARY:ENCUENTRO DE MUJERES VIRTUOSAS CPN
DESCRIPTION:El día 26 de Octubre\, tendremos un evento muy especial solo para Mujeres Virtuosas\, en nuestra Iglesia CPN. Estarán con nosotras\, nuestra amada Pastora Denise Campos\, y desde la iglesia Segadores de Vida en Florida\, Vanessa Gracia Cruz. \n\n\n\nMujeres virtuosas\n\n\n\n¡Ven y trae a una amiga! Será inolvidable.
URL:https://iglesiacpn.es/evento/encuentro-de-mujeres-virtuosas-cpn/
LOCATION:IGLESIA CPN\, Carrer Mestre Guerrero\, 10\, Manises\, Valencia.\, Manises\, Valencia\, 46940\, España
ORGANIZER;CN="Iglesia Cpn":MAILTO:eventos@iglesiacpn.es
END:VEVENT
END:VCALENDAR